BEGIN:VCALENDAR
VERSION:2.0
CALSCALE:GREGORIAN
PRODID:adamgibbons/ics
METHOD:PUBLISH
X-PUBLISHED-TTL:PT1H
BEGIN:VEVENT
UID:20913@offbeat.amsterdam
SUMMARY:(PRE)FIGURING FASCISM #1: Border Imperialism in the Balkans
DTSTAMP:20260420T080721Z
DTSTART:20260501T150000Z
DTEND:20260501T170000Z
URL:https://offbeat.amsterdam/event/prefiguring-fascism-1-border-imperialis
	m-in-the-balkans
LOCATION:Het Fort van Sjakoo - Jodenbreestraat 24\, 1011 NK Amsterdam
STATUS:CONFIRMED
CATEGORIES:amsterdam-centrum,capitalism,colonialism,discussion,nieuwmarkt/l
	astage,talk
END:VEVENT
END:VCALENDAR
